BEGIN:VCALENDAR
VERSION:2.0
PRODID:-// - ECPv6.15.20//NONSGML v1.0//EN
CALSCALE:GREGORIAN
METHOD:PUBLISH
X-ORIGINAL-URL:https://tcana.org
X-WR-CALDESC:Events for 
REFRESH-INTERVAL;VALUE=DURATION:PT1H
X-Robots-Tag:noindex
X-PUBLISHED-TTL:PT1H
BEGIN:VTIMEZONE
TZID:America/New_York
BEGIN:DAYLIGHT
TZOFFSETFROM:-0500
TZOFFSETTO:-0400
TZNAME:EDT
DTSTART:20240310T070000
END:DAYLIGHT
BEGIN:STANDARD
TZOFFSETFROM:-0400
TZOFFSETTO:-0500
TZNAME:EST
DTSTART:20241103T060000
END:STANDARD
BEGIN:DAYLIGHT
TZOFFSETFROM:-0500
TZOFFSETTO:-0400
TZNAME:EDT
DTSTART:20250309T070000
END:DAYLIGHT
BEGIN:STANDARD
TZOFFSETFROM:-0400
TZOFFSETTO:-0500
TZNAME:EST
DTSTART:20251102T060000
END:STANDARD
BEGIN:DAYLIGHT
TZOFFSETFROM:-0500
TZOFFSETTO:-0400
TZNAME:EDT
DTSTART:20260308T070000
END:DAYLIGHT
BEGIN:STANDARD
TZOFFSETFROM:-0400
TZOFFSETTO:-0500
TZNAME:EST
DTSTART:20261101T060000
END:STANDARD
END:VTIMEZONE
BEGIN:VTIMEZONE
TZID:UTC
BEGIN:STANDARD
TZOFFSETFROM:+0000
TZOFFSETTO:+0000
TZNAME:UTC
DTSTART:20240101T000000
END:STANDARD
END:VTIMEZONE
BEGIN:VEVENT
DTSTART;TZID=America/New_York:20250302T140000
DTEND;TZID=America/New_York:20250302T160000
DTSTAMP:20260423T165806
CREATED:20250115T140314Z
LAST-MODIFIED:20250115T141902Z
UID:892-1740924000-1740931200@tcana.org
SUMMARY:Policy Subcommittee-March 2025
DESCRIPTION:Use the existing zoom meeting ID and password:\nZoom 711 095 3615\npasscode 742049
URL:https://tcana.org/event/policy-subcommittee-march-2025/
LOCATION:NC
CATEGORIES:Sub-Committee Meeting
END:VEVENT
BEGIN:VEVENT
DTSTART;TZID=UTC:20250328T183000
DTEND;TZID=UTC:20250328T200000
DTSTAMP:20260423T165806
CREATED:20250102T024503Z
LAST-MODIFIED:20250217T022201Z
UID:843-1743186600-1743192000@tcana.org
SUMMARY:Public Relations Subcomittee March 2025
DESCRIPTION:New Location\n603 Peters Creek Pkwy\, Winston-Salem\, NC 27103 \nBetween the Rent-A-Center and the barber shop. \nOr join virtually with the existing zoom meeting ID and password:\nZoom 711 095 3615 \npasscode 742049
URL:https://tcana.org/event/public-relations-subcomittee-march-2025/
LOCATION:603 Peters Creek Pkwy\, Winston-Salem\, NC 27103\, 603 Peters Creek Pkwy\, Winston-Salem\, North Carolina\, 27103
CATEGORIES:Sub-Committee Meeting
END:VEVENT
END:VCALENDAR