BEGIN:VCALENDAR
VERSION:2.0
PRODID:-// - ECPv6.15.20//NONSGML v1.0//EN
CALSCALE:GREGORIAN
METHOD:PUBLISH
X-ORIGINAL-URL:https://tcana.org
X-WR-CALDESC:Events for 
REFRESH-INTERVAL;VALUE=DURATION:PT1H
X-Robots-Tag:noindex
X-PUBLISHED-TTL:PT1H
BEGIN:VTIMEZONE
TZID:UTC
BEGIN:STANDARD
TZOFFSETFROM:+0000
TZOFFSETTO:+0000
TZNAME:UTC
DTSTART:20210101T000000
END:STANDARD
END:VTIMEZONE
BEGIN:VTIMEZONE
TZID:America/New_York
BEGIN:DAYLIGHT
TZOFFSETFROM:-0500
TZOFFSETTO:-0400
TZNAME:EDT
DTSTART:20220313T070000
END:DAYLIGHT
BEGIN:STANDARD
TZOFFSETFROM:-0400
TZOFFSETTO:-0500
TZNAME:EST
DTSTART:20221106T060000
END:STANDARD
BEGIN:DAYLIGHT
TZOFFSETFROM:-0500
TZOFFSETTO:-0400
TZNAME:EDT
DTSTART:20230312T070000
END:DAYLIGHT
BEGIN:STANDARD
TZOFFSETFROM:-0400
TZOFFSETTO:-0500
TZNAME:EST
DTSTART:20231105T060000
END:STANDARD
BEGIN:DAYLIGHT
TZOFFSETFROM:-0500
TZOFFSETTO:-0400
TZNAME:EDT
DTSTART:20240310T070000
END:DAYLIGHT
BEGIN:STANDARD
TZOFFSETFROM:-0400
TZOFFSETTO:-0500
TZNAME:EST
DTSTART:20241103T060000
END:STANDARD
END:VTIMEZONE
BEGIN:VEVENT
DTSTART;TZID=UTC:20240322T183000
DTEND;TZID=UTC:20240322T200000
DTSTAMP:20260422T050948
CREATED:20230103T174251Z
LAST-MODIFIED:20231023T145113Z
UID:305-1711132200-1711137600@tcana.org
SUMMARY:Public Relations - March 2024
DESCRIPTION:Zoom \n711 095 3615 passcode 742049
URL:https://tcana.org/event/public-relations-march-2023/
LOCATION:Christ Lutheran Church\, 3205 S. Main St\, Winston-Salem\, 27127\, United States
CATEGORIES:Sub-Committee Meeting
END:VEVENT
BEGIN:VEVENT
DTSTART;TZID=UTC:20240223T183000
DTEND;TZID=UTC:20240223T200000
DTSTAMP:20260422T050948
CREATED:20230103T174124Z
LAST-MODIFIED:20231023T145045Z
UID:303-1708713000-1708718400@tcana.org
SUMMARY:Public Relations - February 2024
DESCRIPTION:Zoom \n711 095 3615 password 742049
URL:https://tcana.org/event/public-relations-february-2023/
LOCATION:Christ Lutheran Church\, 3205 S. Main St\, Winston-Salem\, 27127\, United States
CATEGORIES:Sub-Committee Meeting
END:VEVENT
BEGIN:VEVENT
DTSTART;TZID=UTC:20240126T183000
DTEND;TZID=UTC:20240126T200000
DTSTAMP:20260422T050948
CREATED:20230103T174013Z
LAST-MODIFIED:20231023T145011Z
UID:300-1706293800-1706299200@tcana.org
SUMMARY:Public Relations - January 2024
DESCRIPTION:Zoom \n711 095 3615 Password 742049
URL:https://tcana.org/event/public-relations-december-2022-2/
LOCATION:Christ Lutheran Church\, 3205 S. Main St\, Winston-Salem\, 27127\, United States
CATEGORIES:Sub-Committee Meeting
END:VEVENT
BEGIN:VEVENT
DTSTART;TZID=America/New_York:20230610T100000
DTEND;TZID=America/New_York:20230610T180000
DTSTAMP:20260422T050948
CREATED:20230526T135232Z
LAST-MODIFIED:20230526T182730Z
UID:426-1686391200-1686420000@tcana.org
SUMMARY:South Eastern Zonal Forum PR Week Event - In Person/Virtual
DESCRIPTION:Join us for the annual celebration of PR WEEK! The Southeastern Zonal Forum is hosting this hybrid live-streamed event\, with in-person sessions and speakers around the Zone! The CAROLINA REGION’S in-person workshop will be held 10:00am-6:00pm (EDT) at: \nTriad Baptist Church\, 1175 S Main St\, Kernersville NC 27284 \nZoom ID: 827 748 8482 (No additional password) \nFor more information\, contact sezfna@googlegroups.com
URL:https://tcana.org/event/carolina-region-pr-week-in-person-virtual/
LOCATION:Triad Baptist Church\, 1175 S. Main St.\, Kernersville\, NC\, 27284\, United States
CATEGORIES:Sub-Committee Meeting
ATTACH;FMTTYPE=image/jpeg:https://tcana.org/wp-content/uploads/2023/05/SEZF-2023-PR-WEEK-Flyer.jpg
END:VEVENT
BEGIN:VEVENT
DTSTART;TZID=UTC:20221223T183000
DTEND;TZID=UTC:20221223T200000
DTSTAMP:20260422T050948
CREATED:20221207T212920Z
LAST-MODIFIED:20221207T213518Z
UID:250-1671820200-1671825600@tcana.org
SUMMARY:Public Relations - December 2022
DESCRIPTION:Zoom info – 711 095 3615 password 742049
URL:https://tcana.org/event/public-relations-december-2022/
LOCATION:Christ Lutheran Church\, 3205 S. Main St\, Winston-Salem\, 27127\, United States
CATEGORIES:Sub-Committee Meeting
END:VEVENT
END:VCALENDAR